BEGIN:VCALENDAR
VERSION:2.0
PRODID:-//Arizona School for the Arts - ECPv6.15.20//NONSGML v1.0//EN
CALSCALE:GREGORIAN
METHOD:PUBLISH
X-ORIGINAL-URL:https://goasa.org
X-WR-CALDESC:Events for Arizona School for the Arts
REFRESH-INTERVAL;VALUE=DURATION:PT1H
X-Robots-Tag:noindex
X-PUBLISHED-TTL:PT1H
BEGIN:VTIMEZONE
TZID:America/Phoenix
BEGIN:STANDARD
TZOFFSETFROM:-0700
TZOFFSETTO:-0700
TZNAME:MST
DTSTART:20240101T000000
END:STANDARD
END:VTIMEZONE
BEGIN:VEVENT
DTSTART;TZID=America/Phoenix:20260415T183000
DTEND;TZID=America/Phoenix:20260415T193000
DTSTAMP:20260425T095446
CREATED:20250828T221425Z
LAST-MODIFIED:20260425T161724Z
UID:10001660-1776277800-1776281400@goasa.org
SUMMARY:Performance | Senior Theatre Ensemble
DESCRIPTION:
URL:https://goasa.org/event/performance-senior-theatre-ensemble/
LOCATION:On Campus – Black Box
CATEGORIES:School Calendar
ORGANIZER;CN="goasa.org_ibg79ide58c3phaq3hrfdvcut0@group.calendar.google.com":MAILTO:goasa.org_ibg79ide58c3phaq3hrfdvcut0@group.calendar.google.com
END:VEVENT
BEGIN:VEVENT
DTSTART;TZID=America/Phoenix:20260408T183000
DTEND;TZID=America/Phoenix:20260408T193000
DTSTAMP:20260425T095446
CREATED:20250828T221423Z
LAST-MODIFIED:20260425T161709Z
UID:10001657-1775673000-1775676600@goasa.org
SUMMARY:Performance | Upper School Theatre\, Grade 9
DESCRIPTION:
URL:https://goasa.org/event/performance-upper-school-theatre-grade-9/
LOCATION:On Campus – Black Box
CATEGORIES:School Calendar
ORGANIZER;CN="goasa.org_ibg79ide58c3phaq3hrfdvcut0@group.calendar.google.com":MAILTO:goasa.org_ibg79ide58c3phaq3hrfdvcut0@group.calendar.google.com
END:VEVENT
BEGIN:VEVENT
DTSTART;TZID=America/Phoenix:20251113T183000
DTEND;TZID=America/Phoenix:20251113T193000
DTSTAMP:20260425T095446
CREATED:20250828T221830Z
LAST-MODIFIED:20260331T171628Z
UID:10001692-1763058600-1763062200@goasa.org
SUMMARY:Performance | Senior Theatre Ensemble
DESCRIPTION:
URL:https://goasa.org/event/performance-senior-theatre-ensemble-2/
LOCATION:On Campus – Black Box
CATEGORIES:School Calendar
ORGANIZER;CN="goasa.org_ibg79ide58c3phaq3hrfdvcut0@group.calendar.google.com":MAILTO:goasa.org_ibg79ide58c3phaq3hrfdvcut0@group.calendar.google.com
END:VEVENT
BEGIN:VEVENT
DTSTART;TZID=America/Phoenix:20251105T183000
DTEND;TZID=America/Phoenix:20251105T193000
DTSTAMP:20260425T095446
CREATED:20250828T221829Z
LAST-MODIFIED:20260331T171603Z
UID:10001690-1762367400-1762371000@goasa.org
SUMMARY:Performance | Upper School Theatre\, Grades 10 & 11
DESCRIPTION:
URL:https://goasa.org/event/performance-upper-school-theatre-grades-10-11/
LOCATION:On Campus – Black Box
CATEGORIES:School Calendar
ORGANIZER;CN="goasa.org_ibg79ide58c3phaq3hrfdvcut0@group.calendar.google.com":MAILTO:goasa.org_ibg79ide58c3phaq3hrfdvcut0@group.calendar.google.com
END:VEVENT
END:VCALENDAR