BEGIN:VCALENDAR
VERSION:2.0
PRODID:-//Arizona School for the Arts - ECPv6.15.20//NONSGML v1.0//EN
CALSCALE:GREGORIAN
METHOD:PUBLISH
X-ORIGINAL-URL:https://goasa.org
X-WR-CALDESC:Events for Arizona School for the Arts
REFRESH-INTERVAL;VALUE=DURATION:PT1H
X-Robots-Tag:noindex
X-PUBLISHED-TTL:PT1H
BEGIN:VTIMEZONE
TZID:America/Phoenix
BEGIN:STANDARD
TZOFFSETFROM:-0700
TZOFFSETTO:-0700
TZNAME:MST
DTSTART:20230101T000000
END:STANDARD
END:VTIMEZONE
BEGIN:VEVENT
DTSTART;VALUE=DATE:20240902
DTEND;VALUE=DATE:20240903
DTSTAMP:20260422T031044
CREATED:20240722T163806Z
LAST-MODIFIED:20240930T191854Z
UID:10000754-1725235200-1725321599@goasa.org
SUMMARY:Labor Day | NO SCHOOL
DESCRIPTION:
URL:https://goasa.org/event/labor-day-no-school-2/
CATEGORIES:School Calendar
ORGANIZER;CN="goasa.org_ibg79ide58c3phaq3hrfdvcut0@group.calendar.google.com":MAILTO:goasa.org_ibg79ide58c3phaq3hrfdvcut0@group.calendar.google.com
END:VEVENT
BEGIN:VEVENT
DTSTART;VALUE=DATE:20240903
DTEND;VALUE=DATE:20240904
DTSTAMP:20260422T031044
CREATED:20240722T163807Z
LAST-MODIFIED:20240930T191854Z
UID:10000755-1725321600-1725407999@goasa.org
SUMMARY:PD Day | Remote Learning
DESCRIPTION:
URL:https://goasa.org/event/pd-day-remote-learning/
CATEGORIES:School Calendar
ORGANIZER;CN="goasa.org_ibg79ide58c3phaq3hrfdvcut0@group.calendar.google.com":MAILTO:goasa.org_ibg79ide58c3phaq3hrfdvcut0@group.calendar.google.com
END:VEVENT
BEGIN:VEVENT
DTSTART;VALUE=DATE:20240904
DTEND;VALUE=DATE:20240907
DTSTAMP:20260422T031044
CREATED:20240722T163808Z
LAST-MODIFIED:20240822T164302Z
UID:10000758-1725408000-1725667199@goasa.org
SUMMARY:Senior Ropes Trip
DESCRIPTION:
URL:https://goasa.org/event/senior-ropes-trip-2/
LOCATION:Tonto Creek Camp
CATEGORIES:School Calendar
ORGANIZER;CN="goasa.org_ibg79ide58c3phaq3hrfdvcut0@group.calendar.google.com":MAILTO:goasa.org_ibg79ide58c3phaq3hrfdvcut0@group.calendar.google.com
END:VEVENT
BEGIN:VEVENT
DTSTART;VALUE=DATE:20240913
DTEND;VALUE=DATE:20240916
DTSTAMP:20260422T031044
CREATED:20240722T163813Z
LAST-MODIFIED:20240822T164303Z
UID:10000763-1726185600-1726444799@goasa.org
SUMMARY:Mock Trial | Yale Bulldog Mock Trial Invitational
DESCRIPTION:
URL:https://goasa.org/event/mock-trial-yale-bulldog-mock-trial-invitational/
LOCATION:Yale University\, New Haven\, CT\, United States
CATEGORIES:School Calendar
ORGANIZER;CN="goasa.org_ibg79ide58c3phaq3hrfdvcut0@group.calendar.google.com":MAILTO:goasa.org_ibg79ide58c3phaq3hrfdvcut0@group.calendar.google.com
GEO:41.365709;-72.927507
END:VEVENT
BEGIN:VEVENT
DTSTART;TZID=America/Phoenix:20240913T163000
DTEND;TZID=America/Phoenix:20240913T193000
DTSTAMP:20260422T031044
CREATED:20240722T163814Z
LAST-MODIFIED:20240930T191854Z
UID:10001291-1726245000-1726255800@goasa.org
SUMMARY:String Retreat
DESCRIPTION:
URL:https://goasa.org/event/string-retreat/
LOCATION:C-211 E/W\, C-207\, C-212
CATEGORIES:School Calendar
ORGANIZER;CN="goasa.org_ibg79ide58c3phaq3hrfdvcut0@group.calendar.google.com":MAILTO:goasa.org_ibg79ide58c3phaq3hrfdvcut0@group.calendar.google.com
END:VEVENT
BEGIN:VEVENT
DTSTART;TZID=America/Phoenix:20240920T163000
DTEND;TZID=America/Phoenix:20240920T183000
DTSTAMP:20260422T031044
CREATED:20240722T163816Z
LAST-MODIFIED:20240930T191855Z
UID:10001293-1726849800-1726857000@goasa.org
SUMMARY:All Choir Retreat
DESCRIPTION:
URL:https://goasa.org/event/all-choir-retreat/
LOCATION:C-211\, C-311\, B-208\, B-203\, B-209\, B-210 & Amphitheatre
CATEGORIES:School Calendar
ORGANIZER;CN="goasa.org_ibg79ide58c3phaq3hrfdvcut0@group.calendar.google.com":MAILTO:goasa.org_ibg79ide58c3phaq3hrfdvcut0@group.calendar.google.com
END:VEVENT
BEGIN:VEVENT
DTSTART;TZID=America/Phoenix:20240923T173000
DTEND;TZID=America/Phoenix:20240923T190000
DTSTAMP:20260422T031044
CREATED:20240722T163816Z
LAST-MODIFIED:20240930T191855Z
UID:10001294-1727112600-1727118000@goasa.org
SUMMARY:ASA Board of Directors Meeting
DESCRIPTION:Join Zoom Meeting\nhttps://us02web.zoom.us/j/89290148734?pwd=eUg5UnVpbEZXYlM5bzR4QzI5UER4dz09\nMeeting ID: 892 9014 8734\nPasscode: 262121\n—\nOne tap mobile\n+13462487799\,\,89290148734#\,\,\,\,*262121# US (Houston)\n+16694449171\,\,89290148734#\,\,\,\,*262121# US\n—\nDial by your location\n• +1 346 248 7799 US (Houston)\n• +1 669 444 9171 US\n• +1 669 900 6833 US (San Jose)\n• +1 719 359 4580 US\n• +1 253 205 0468 US\n• +1 253 215 8782 US (Tacoma)\n• +1 386 347 5053 US\n• +1 507 473 4847 US\n• +1 564 217 2000 US\n• +1 646 931 3860 US\n• +1 689 278 1000 US\n• +1 929 436 2866 US (New York)\n• +1 301 715 8592 US (Washington DC)\n• +1 305 224 1968 US\n• +1 309 205 3325 US\n• +1 312 626 6799 US (Chicago)\n• +1 360 209 5623 US\nMeeting ID: 892 9014 8734\nPasscode: 262121\nFind your local number: https://us02web.zoom.us/u/kMUx8NjzR
URL:https://goasa.org/event/asa-board-of-directors-meeting-20/
LOCATION:Zoom
CATEGORIES:School Calendar
ORGANIZER;CN="goasa.org_ibg79ide58c3phaq3hrfdvcut0@group.calendar.google.com":MAILTO:goasa.org_ibg79ide58c3phaq3hrfdvcut0@group.calendar.google.com
END:VEVENT
BEGIN:VEVENT
DTSTART;TZID=America/Phoenix:20240927T163000
DTEND;TZID=America/Phoenix:20240927T193000
DTSTAMP:20260422T031044
CREATED:20240822T164251Z
LAST-MODIFIED:20240930T191855Z
UID:10001476-1727454600-1727465400@goasa.org
SUMMARY:Band Retreat
DESCRIPTION:
URL:https://goasa.org/event/band-retreat-4/
LOCATION:Arizona School For The Arts\, 1410 N 3rd St\, Phoenix\, AZ\, United States
CATEGORIES:School Calendar
ORGANIZER;CN="goasa.org_ibg79ide58c3phaq3hrfdvcut0@group.calendar.google.com":MAILTO:goasa.org_ibg79ide58c3phaq3hrfdvcut0@group.calendar.google.com
GEO:33.464115;-112.06943
X-APPLE-STRUCTURED-LOCATION;VALUE=URI;X-ADDRESS=Arizona School For The Arts 1410 N 3rd St Phoenix AZ United States;X-APPLE-RADIUS=500;X-TITLE=1410 N 3rd St:geo:-112.06943,33.464115
END:VEVENT
END:VCALENDAR